BEGIN:VCALENDAR
VERSION:2.0
PRODID:-//eventon.com NONSGML v1.0//EN
CALSCALE:GREGORIAN
METHOD:PUBLISH
BEGIN:VEVENT
UID:69ec968a16353
DTSTAMP:20260425T102514Z
DTSTART:20260427T220000Z
DTEND:20260427T230000Z
LOCATION:
SUMMARY:Planning Commission Meeting
DESCRIPTION:Planning Commission Meeting\nhttps://newwindsormd.gov/events/pl
 anning-commission-meeting-12/
URL:https://newwindsormd.gov/events/planning-commission-meeting-12/
END:VEVENT
END:VCALENDAR