BEGIN:VCALENDAR
VERSION:2.0
PRODID:-//eventon.com NONSGML v1.0//EN
CALSCALE:GREGORIAN
METHOD:PUBLISH
BEGIN:VEVENT
UID:69ec94c7e035b
DTSTAMP:20260425T101743Z
DTSTART:20260425T120000Z
DTEND:20260425T160000Z
LOCATION:
SUMMARY:Bulk Trash Day
DESCRIPTION:BULK TRASH DAY &#8211; Rain or Shine! Saturday\,  APRIL 25 &#82
 11; 8 am &#8211; 12 pm Bulk trash is for large items that cannot go with re
 gular trash\,  with the exceptions of paint cans\,  concrete\,  tires and b
 uilding materials. Accepting bulk metal\,  such as appliances\,  lawn mower
 s\,  etc. If residents[..]\nhttps://newwindsormd.gov/events/bulk-trash-day-
 4/
URL:https://newwindsormd.gov/events/bulk-trash-day-4/
END:VEVENT
END:VCALENDAR