BEGIN:VCALENDAR
VERSION:2.0
PRODID:-//eventon.com NONSGML v1.0//EN
CALSCALE:GREGORIAN
METHOD:PUBLISH
BEGIN:VEVENT
UID:69e785c85cabf
DTSTAMP:20260421T141224Z
DTSTART:20260425T120000Z
DTEND:20260425T160000Z
LOCATION:
SUMMARY:Town Beautification Day
DESCRIPTION:\nhttps://newwindsormd.gov/events/town-beautification-day-4/
URL:https://newwindsormd.gov/events/town-beautification-day-4/
END:VEVENT
END:VCALENDAR