BEGIN:VCALENDAR
VERSION:2.0
PRODID:-//eventon.com NONSGML v1.0//EN
CALSCALE:GREGORIAN
METHOD:PUBLISH
BEGIN:VEVENT
UID:69e7497573fad
DTSTAMP:20260421T095501Z
DTSTART:20250922T220000Z
DTEND:20250922T230000Z
LOCATION:
SUMMARY:Planning Commission Meeting
DESCRIPTION:Planning Commission Meeting\nhttps://newwindsormd.gov/events/pl
 anning-commission-meeting-5/
URL:https://newwindsormd.gov/events/planning-commission-meeting-5/
END:VEVENT
END:VCALENDAR