BEGIN:VCALENDAR
VERSION:2.0
PRODID:-//eventon.com NONSGML v1.0//EN
CALSCALE:GREGORIAN
METHOD:PUBLISH
BEGIN:VEVENT
UID:69e74a02ef4e3
DTSTAMP:20260421T095722Z
DTSTART:20250918T130000Z
DTEND:20250918T190000Z
LOCATION:
SUMMARY:Yard Waste Pick-Up
DESCRIPTION:Collection Reminders: Yard waste can be put in brown paper yard
  waste bags (can be purchased at Walmart\,  Lowe’s or Home Depot). Yard w
 aste can be put into cans. Please make sure lids fit and holes are drilled 
 in the bottom of the can for drainage.  Please\,  NO cans that[..]\nhttps:
 //newwindsormd.gov/events/yard-waste-pick-up-49/
URL:https://newwindsormd.gov/events/yard-waste-pick-up-49/
END:VEVENT
END:VCALENDAR