BEGIN:VCALENDAR
VERSION:2.0
PRODID:-//eventon.com NONSGML v1.0//EN
CALSCALE:GREGORIAN
METHOD:PUBLISH
BEGIN:VEVENT
UID:69e881185fc88
DTSTAMP:20260422T080440Z
DTSTART:20250410T120000Z
DTEND:20250410T200000Z
LOCATION:
SUMMARY:YARD WASTE PICK UP
DESCRIPTION:HAVE YARD WASTE OUT ON WEDNESDAY EVENING TO ENSURE PICK UP ON T
 HURSDAY OR FRIDAY\nhttps://newwindsormd.gov/events/yard-waste-pick-up-29/
URL:https://newwindsormd.gov/events/yard-waste-pick-up-29/
END:VEVENT
END:VCALENDAR