BEGIN:VCALENDAR
VERSION:2.0
PRODID:-//eventon.com NONSGML v1.0//EN
CALSCALE:GREGORIAN
METHOD:PUBLISH
BEGIN:VEVENT
UID:69e73747dcdb6
DTSTAMP:20260421T083727Z
DTSTART:20250604T230000Z
DTEND:20250605T000000Z
LOCATION:
SUMMARY:TOWN COUNCIL MEETING\,  7PM
DESCRIPTION:TOWN COUNCIL MEETING\,  7PM\nhttps://newwindsormd.gov/events/to
 wn-council-meeting-7pm-14/
URL:https://newwindsormd.gov/events/town-council-meeting-7pm-14/
END:VEVENT
END:VCALENDAR