BEGIN:VCALENDAR
VERSION:2.0
PRODID:-//eventon.com NONSGML v1.0//EN
CALSCALE:GREGORIAN
METHOD:PUBLISH
BEGIN:VEVENT
UID:69e5366deedf0
DTSTAMP:20260419T200917Z
DTSTART:20250402T230000Z
DTEND:20250403T000000Z
LOCATION:
SUMMARY:TOWN COUNCIL MEETING\,  7PM
DESCRIPTION:TOWN COUNCIL MEETING\,  7PM\nhttps://newwindsormd.gov/events/to
 wn-council-meeting-7pm-12/
URL:https://newwindsormd.gov/events/town-council-meeting-7pm-12/
END:VEVENT
END:VCALENDAR