BEGIN:VCALENDAR
VERSION:2.0
PRODID:-//eventon.com NONSGML v1.0//EN
CALSCALE:GREGORIAN
METHOD:PUBLISH
BEGIN:VEVENT
UID:69e736349c401
DTSTAMP:20260421T083252Z
DTSTART:20250219T000000Z
DTEND:20250219T010000Z
LOCATION:
SUMMARY:WORK SESSION MEETING\,  7PM
DESCRIPTION:WORK SESSION MEETING\,  7PM\nhttps://newwindsormd.gov/events/wo
 rk-session-meeting-7pm-10/
URL:https://newwindsormd.gov/events/work-session-meeting-7pm-10/
END:VEVENT
END:VCALENDAR