BEGIN:VCALENDAR
VERSION:2.0
PRODID:-//eventon.com NONSGML v1.0//EN
CALSCALE:GREGORIAN
METHOD:PUBLISH
BEGIN:VEVENT
UID:69e79200b7944
DTSTAMP:20260421T150432Z
DTSTART:20240916T230000Z
DTEND:20240917T000000Z
LOCATION:
SUMMARY:WORK SESSION MEETING\,  7PM
DESCRIPTION:WORK SESSION MEETING\,  7PM\nhttps://newwindsormd.gov/events/wo
 rk-session-meeting-7pm-6/
URL:https://newwindsormd.gov/events/work-session-meeting-7pm-6/
END:VEVENT
END:VCALENDAR