BEGIN:VCALENDAR
VERSION:2.0
PRODID:-//eventon.com NONSGML v1.0//EN
CALSCALE:GREGORIAN
METHOD:PUBLISH
BEGIN:VEVENT
UID:69e6d75217f64
DTSTAMP:20260421T014802Z
DTSTART:20240501T230000Z
DTEND:20240502T000000Z
LOCATION:
SUMMARY:TOWN COUNCIL MEETING\,  7PM
DESCRIPTION:TOWN COUNCIL MEETING\,  7PM\nhttps://newwindsormd.gov/events/to
 wn-council-meeting-7pm-copy/
URL:https://newwindsormd.gov/events/town-council-meeting-7pm-copy/
END:VEVENT
END:VCALENDAR