BEGIN:VCALENDAR
VERSION:2.0
PRODID:-//eventon.com NONSGML v1.0//EN
CALSCALE:GREGORIAN
METHOD:PUBLISH
BEGIN:VEVENT
UID:69e732d63c592
DTSTAMP:20260421T081830Z
DTSTART:20240418T120000Z
DTEND:20240418T160000Z
LOCATION:
SUMMARY:Yard Waste Pick Up
DESCRIPTION:Yard Waste Pick Up\nhttps://newwindsormd.gov/events/yard-waste-
 pick-up-8/
URL:https://newwindsormd.gov/events/yard-waste-pick-up-8/
END:VEVENT
END:VCALENDAR