BEGIN:VCALENDAR
VERSION:2.0
PRODID:-//eventon.com NONSGML v1.0//EN
CALSCALE:GREGORIAN
METHOD:PUBLISH
BEGIN:VEVENT
UID:69e738d0618f5
DTSTAMP:20260421T084400Z
DTSTART:20240101
DTEND:20240102
LOCATION:
SUMMARY:Town Hall Closed
DESCRIPTION:Town Hall Closed\nhttps://newwindsormd.gov/events/town-hall-clo
 sed-8/
URL:https://newwindsormd.gov/events/town-hall-closed-8/
END:VEVENT
END:VCALENDAR