BEGIN:VCALENDAR
VERSION:2.0
PRODID:-//eventon.com NONSGML v1.0//EN
CALSCALE:GREGORIAN
METHOD:PUBLISH
BEGIN:VEVENT
UID:69eadcf4dc4b0
DTSTAMP:20260424T030108Z
DTSTART:20230801T220000Z
DTEND:20230802T010000Z
LOCATION:National Night Out 101 High Street\,  New Windsor\,  MD 21776
SUMMARY:National Night Out
DESCRIPTION:Join us for 2023 National Night Out held at the New Windsor Car
 nival Grounds from 6pm to 9pm. Together\,  we are making communities safer
 \,  more caring place to live and work.\nhttps://newwindsormd.gov/events/na
 tional-night-out/
URL:https://newwindsormd.gov/events/national-night-out/
END:VEVENT
END:VCALENDAR