BEGIN:VCALENDAR
VERSION:2.0
PRODID:-//eventon.com NONSGML v1.0//EN
CALSCALE:GREGORIAN
METHOD:PUBLISH
BEGIN:VEVENT
UID:69e4fd71ba774
DTSTAMP:20260419T160609Z
DTSTART:20230112
DTEND:20230113
LOCATION:
SUMMARY:Christmas Tree Pick Up
DESCRIPTION:Christmas Tree Pick Up\nhttps://newwindsormd.gov/events/christm
 as-tree-pick-up-copy/
URL:https://newwindsormd.gov/events/christmas-tree-pick-up-copy/
END:VEVENT
END:VCALENDAR