BEGIN:VCALENDAR
VERSION:2.0
PRODID:-//eventon.com NONSGML v1.0//EN
CALSCALE:GREGORIAN
METHOD:PUBLISH
BEGIN:VEVENT
UID:69e75a8000efc
DTSTAMP:20260421T110744Z
DTSTART:20221220T000000Z
DTEND:20221220T000000Z
LOCATION:
SUMMARY:Work Session Meeting
DESCRIPTION:Work Session Meeting\nhttps://newwindsormd.gov/events/work-sess
 ion-meeting/var/ri-6.l-L1
URL:https://newwindsormd.gov/events/work-session-meeting/var/ri-6.l-L1
END:VEVENT
END:VCALENDAR