BEGIN:VCALENDAR
VERSION:2.0
PRODID:-//eventon.com NONSGML v1.0//EN
CALSCALE:GREGORIAN
METHOD:PUBLISH
BEGIN:VEVENT
UID:69e6fa90ceecd
DTSTAMP:20260421T041824Z
DTSTART:20220601T230000Z
DTEND:20220601T230000Z
LOCATION:
SUMMARY:Town Council Meeting
DESCRIPTION:All legislative powers of the town are vested in the Town Counc
 il consisting of five elected members. Council members four-year terms of o
 ffice are staggered as not to have each member being up for election simult
 aneously. The Town Council meets regularly the first Wednesday of every mon
 th in the “Community[..]\nhttps://newwindsormd.gov/events/town-council-me
 eting/var/ri-7.l-L1
URL:https://newwindsormd.gov/events/town-council-meeting/var/ri-7.l-L1
END:VEVENT
END:VCALENDAR