BEGIN:VCALENDAR
VERSION:2.0
PRODID:-//eventon.com NONSGML v1.0//EN
CALSCALE:GREGORIAN
METHOD:PUBLISH
BEGIN:VEVENT
UID:69e74907c52d2
DTSTAMP:20260421T095311Z
DTSTART:20211229
DTEND:20211230
LOCATION:
SUMMARY:Trash/Recycle Pick-up
DESCRIPTION:Trash/Recycle Pick-up\nhttps://newwindsormd.gov/events/trash-re
 cycle-pick-up/var/ri-13.l-L1
URL:https://newwindsormd.gov/events/trash-recycle-pick-up/var/ri-13.l-L1
END:VEVENT
END:VCALENDAR