BEGIN:VCALENDAR
VERSION:2.0
PRODID:-//eventon.com NONSGML v1.0//EN
CALSCALE:GREGORIAN
METHOD:PUBLISH
BEGIN:VEVENT
UID:69e9eb2991bd2
DTSTAMP:20260423T094929Z
DTSTART:20210929
DTEND:20210930
LOCATION:
SUMMARY:Trash/Recycle Pick-up
DESCRIPTION:Trash/Recycle Pick-up\nhttps://newwindsormd.gov/events/trash-re
 cycle-pick-up/
URL:https://newwindsormd.gov/events/trash-recycle-pick-up/
END:VEVENT
END:VCALENDAR